BEGIN:VCALENDAR
VERSION:2.0
PRODID:-//Tukios.com/
BEGIN:VEVENT
UID:dc918d8e-6b7e-47f7-94cb-c6e349d71461@www.nicholsfunerals.com
DTSTAMP:20260424T192912Z
DTSTART:20260427T180000Z
DTEND:20260427T190000Z
SUMMARY:Graveside Service
DESCRIPTION:
URL:https://www.nicholsfunerals.com/obituaries/alvin-young
LOCATION:East Hill Cemetery Old Cemetery Rd  Fort Stockton TX 79735
GEO:30.8940431;-102.8793222
END:VEVENT
END:VCALENDAR