BEGIN:VCALENDAR
VERSION:2.0
PRODID:-//Tukios.com/
BEGIN:VEVENT
UID:90fd26e1-8052-44cc-b198-7b243e659b23@www.nicholsfunerals.com
DTSTAMP:20260421T015244Z
DTSTART:20260530T160000Z
DTEND:20260530T170000Z
SUMMARY:Memorial Service
DESCRIPTION:
URL:https://www.nicholsfunerals.com/obituaries/ange-alsop
LOCATION: 100 E. Railroad  Rankin TX 79778
GEO:31.2216533;-101.9383548
END:VEVENT
END:VCALENDAR