BEGIN:VCALENDAR
VERSION:2.0
PRODID:-//Tukios.com/
BEGIN:VEVENT
UID:db4676bc-740c-4d04-92cb-d8ecfc78421a@www.nicholsfunerals.com
DTSTAMP:20260424T194228Z
DTSTART:20260426T200000Z
DTEND:20260427T020000Z
SUMMARY:Viewing
DESCRIPTION:
URL:https://www.nicholsfunerals.com/obituaries/rita-rosales
LOCATION: 9279 Alley Oop Ln  Iraan TX 79744
GEO:30.9168433;-101.9069752
END:VEVENT
END:VCALENDAR