BEGIN:VCALENDAR
VERSION:2.0
PRODID:-//Tukios.com/
BEGIN:VEVENT
UID:c3fd4e80-3819-45db-ad30-a52ce69dc0c4@www.nicholsfunerals.com
DTSTAMP:20260424T193708Z
DTSTART:20260427T140000Z
DTEND:20260428T020000Z
SUMMARY:Viewing
DESCRIPTION:
URL:https://www.nicholsfunerals.com/obituaries/rita-rosales
LOCATION: 9279 Alley Oop Ln  Iraan TX 79744
GEO:30.9168433;-101.9069752
END:VEVENT
END:VCALENDAR