BEGIN:VCALENDAR
VERSION:2.0
PRODID:-//Tukios.com/
BEGIN:VEVENT
UID:9ba7a8f4-a9b4-4c65-8440-63c9dfafe060@www.nicholsfunerals.com
DTSTAMP:20260424T194228Z
DTSTART:20260428T000000Z
DTEND:20260428T010000Z
SUMMARY:Rosary
DESCRIPTION:
URL:https://www.nicholsfunerals.com/obituaries/rita-rosales
LOCATION: 9279 Alley Oop Ln  Iraan TX 79744
GEO:30.9168433;-101.9069752
END:VEVENT
END:VCALENDAR