BEGIN:VCALENDAR
VERSION:2.0
PRODID:-//Tukios.com/
BEGIN:VEVENT
UID:5ccf5b1e-8602-43a9-9a17-743e604ad9ec@www.nicholsfunerals.com
DTSTAMP:20260424T194117Z
DTSTART:20260428T160000Z
DTEND:20260428T170000Z
SUMMARY:Mass
DESCRIPTION:
URL:https://www.nicholsfunerals.com/obituaries/rita-rosales
LOCATION: 9279 Alley Oop Ln  Iraan TX 79744
GEO:30.9168433;-101.9069752
END:VEVENT
END:VCALENDAR