BEGIN:VCALENDAR
VERSION:2.0
PRODID:-//Tukios.com/
BEGIN:VEVENT
UID:1d66a234-fdfe-4e3c-ac9a-ac1639d2f756@www.nicholsfunerals.com
DTSTAMP:20260424T193453Z
DTSTART:20260428T170000Z
DTEND:20260428T180000Z
SUMMARY:Burial
DESCRIPTION:
URL:https://www.nicholsfunerals.com/obituaries/rita-rosales
LOCATION: N State Hwy 349  Iraan TX 79744
GEO:30.9084808;-101.8980866
END:VEVENT
END:VCALENDAR